Package: maCorrPlot Version: 1.77.0 Command: /home/biocbuild/bbs-3.21-bioc/R/bin/R CMD INSTALL maCorrPlot StartedAt: 2025-02-19 15:04:39 -0500 (Wed, 19 Feb 2025) EndedAt: 2025-02-19 15:05:03 -0500 (Wed, 19 Feb 2025) EllapsedTime: 23.9 seconds RetCode: 0 Status: OK