Package: maCorrPlot Version: 1.77.0 Command: /home/biocbuild/bbs-3.21-bioc/R/bin/R CMD build --keep-empty-dirs --no-resave-data maCorrPlot StartedAt: 2025-02-19 17:52:50 -0500 (Wed, 19 Feb 2025) EndedAt: 2025-02-19 17:52:56 -0500 (Wed, 19 Feb 2025) EllapsedTime: 6.0 seconds RetCode: 0 Status: OK PackageFile: maCorrPlot_1.77.0.tar.gz PackageFileSize: 1.265 MiB