Package: mCSEA Version: 1.27.2 Command: chmod a+r mCSEA -R && E:\biocbuild\bbs-3.21-bioc\R\bin\R.exe CMD build --keep-empty-dirs --no-resave-data mCSEA StartedAt: 2025-02-19 19:44:26 -0500 (Wed, 19 Feb 2025) EndedAt: 2025-02-19 19:49:01 -0500 (Wed, 19 Feb 2025) EllapsedTime: 275.2 seconds RetCode: 0 Status: OK PackageFile: mCSEA_1.27.2.tar.gz PackageFileSize: 1.873 MiB