Package: mCSEA Version: 1.27.2 Command: /Library/Frameworks/R.framework/Resources/bin/R CMD INSTALL mCSEA StartedAt: 2025-02-19 15:19:44 -0500 (Wed, 19 Feb 2025) EndedAt: 2025-02-19 15:20:00 -0500 (Wed, 19 Feb 2025) EllapsedTime: 16.3 seconds RetCode: 0 Status: OK