Package: mBPCR Version: 1.61.0 Command: /home/biocbuild/bbs-3.21-bioc/R/bin/R CMD INSTALL mBPCR StartedAt: 2025-02-20 15:29:26 -0500 (Thu, 20 Feb 2025) EndedAt: 2025-02-20 15:29:55 -0500 (Thu, 20 Feb 2025) EllapsedTime: 29.7 seconds RetCode: 0 Status: OK