Package: lute Version: 1.3.0 Command: /Library/Frameworks/R.framework/Resources/bin/R CMD check --install=check:lute.install-out.txt --library=/Library/Frameworks/R.framework/Resources/library --no-vignettes --timings lute_1.3.0.tar.gz StartedAt: 2025-02-19 19:59:18 -0500 (Wed, 19 Feb 2025) EndedAt: 2025-02-19 20:00:34 -0500 (Wed, 19 Feb 2025) EllapsedTime: 76.0 seconds RetCode: 0 Status: OK CheckDir: lute.Rcheck Warnings: 0