Package: lumi Version: 2.59.0 Command: /home/biocbuild/bbs-3.21-bioc/R/bin/R CMD INSTALL lumi StartedAt: 2025-02-20 16:14:17 -0500 (Thu, 20 Feb 2025) EndedAt: 2025-02-20 16:15:06 -0500 (Thu, 20 Feb 2025) EllapsedTime: 49.1 seconds RetCode: 0 Status: OK