Package: lumi Version: 2.59.0 Command: /Library/Frameworks/R.framework/Resources/bin/R CMD build --keep-empty-dirs --no-resave-data lumi StartedAt: 2025-02-19 17:11:19 -0500 (Wed, 19 Feb 2025) EndedAt: 2025-02-19 17:11:21 -0500 (Wed, 19 Feb 2025) EllapsedTime: 2.3 seconds RetCode: 0 Status: OK PackageFile: lumi_2.59.0.tar.gz PackageFileSize: 8.033 MiB