Package: lumi Version: 2.59.0 Command: rm -rf lumi.buildbin-libdir && mkdir lumi.buildbin-libdir && /Users/biocbuild/BBS/utils/build-universal.sh lumi_2.59.0.tar.gz /Library/Frameworks/R.framework/Resources/bin/R lumi.buildbin-libdir StartedAt: 2025-02-21 00:37:49 -0500 (Fri, 21 Feb 2025) EndedAt: 2025-02-21 00:39:08 -0500 (Fri, 21 Feb 2025) EllapsedTime: 79.1 seconds RetCode: 0 Status: OK PackageFile: lumi_2.59.0.tgz PackageFileSize: 4.732 MiB