Package: lpsymphony Version: 1.35.0 Command: chmod a+r lpsymphony -R && E:\biocbuild\bbs-3.21-bioc\R\bin\R.exe CMD build --keep-empty-dirs --no-resave-data lpsymphony StartedAt: 2025-02-17 19:30:44 -0500 (Mon, 17 Feb 2025) EndedAt: 2025-02-17 19:32:19 -0500 (Mon, 17 Feb 2025) EllapsedTime: 94.7 seconds RetCode: 0 Status: OK PackageFile: lpsymphony_1.35.0.tar.gz PackageFileSize: 11.43 MiB