Package: lpsymphony Version: 1.35.0 Command: rm -rf lpsymphony.buildbin-libdir && mkdir lpsymphony.buildbin-libdir && E:\biocbuild\bbs-3.21-bioc\R\bin\R.exe CMD INSTALL --build --library=lpsymphony.buildbin-libdir lpsymphony_1.35.0.tar.gz StartedAt: 2025-02-18 07:38:53 -0500 (Tue, 18 Feb 2025) EndedAt: 2025-02-18 07:39:41 -0500 (Tue, 18 Feb 2025) EllapsedTime: 47.2 seconds RetCode: 0 Status: OK PackageFile: lpsymphony_1.35.0.zip PackageFileSize: 2.726 MiB