Package: lpsymphony Version: 1.35.0 Command: /Library/Frameworks/R.framework/Resources/bin/R CMD check --install=check:lpsymphony.install-out.txt --library=/Library/Frameworks/R.framework/Resources/library --no-vignettes --timings lpsymphony_1.35.0.tar.gz StartedAt: 2025-02-17 19:55:23 -0500 (Mon, 17 Feb 2025) EndedAt: 2025-02-17 19:55:39 -0500 (Mon, 17 Feb 2025) EllapsedTime: 16.2 seconds RetCode: 0 Status: WARNINGS CheckDir: lpsymphony.Rcheck Warnings: 1