Package: lpNet Version: 2.39.0 Command: E:\biocbuild\bbs-3.21-bioc\R\bin\R.exe CMD check --no-multiarch --install=check:lpNet.install-out.txt --library=E:\biocbuild\bbs-3.21-bioc\R\library --no-vignettes --timings lpNet_2.39.0.tar.gz StartedAt: 2025-02-21 02:44:48 -0500 (Fri, 21 Feb 2025) EndedAt: 2025-02-21 02:45:41 -0500 (Fri, 21 Feb 2025) EllapsedTime: 52.7 seconds RetCode: 0 Status: WARNINGS CheckDir: lpNet.Rcheck Warnings: 1