Package: lpNet Version: 2.39.0 Command: chmod a+r lpNet -R && E:\biocbuild\bbs-3.21-bioc\R\bin\R.exe CMD build --keep-empty-dirs --no-resave-data lpNet StartedAt: 2025-02-20 19:39:48 -0500 (Thu, 20 Feb 2025) EndedAt: 2025-02-20 19:40:41 -0500 (Thu, 20 Feb 2025) EllapsedTime: 53.2 seconds RetCode: 0 Status: OK PackageFile: lpNet_2.39.0.tar.gz PackageFileSize: 218.9 KiB