Package: lpNet Version: 2.39.0 Command: rm -rf lpNet.buildbin-libdir && mkdir lpNet.buildbin-libdir && E:\biocbuild\bbs-3.21-bioc\R\bin\R.exe CMD INSTALL --build --library=lpNet.buildbin-libdir lpNet_2.39.0.tar.gz StartedAt: 2025-02-21 08:25:40 -0500 (Fri, 21 Feb 2025) EndedAt: 2025-02-21 08:26:04 -0500 (Fri, 21 Feb 2025) EllapsedTime: 23.6 seconds RetCode: 0 Status: OK PackageFile: lpNet_2.39.0.zip PackageFileSize: 319.4 KiB