Package: lpNet Version: 2.39.0 Command: /Library/Frameworks/R.framework/Resources/bin/R CMD build --keep-empty-dirs --no-resave-data lpNet StartedAt: 2025-02-20 17:10:43 -0500 (Thu, 20 Feb 2025) EndedAt: 2025-02-20 17:11:22 -0500 (Thu, 20 Feb 2025) EllapsedTime: 39.0 seconds RetCode: 0 Status: OK PackageFile: lpNet_2.39.0.tar.gz PackageFileSize: 307.4 KiB