Package: lpNet Version: 2.40.0 Command: /home/biocbuild/R/R/bin/R CMD INSTALL lpNet StartedAt: 2025-10-13 20:26:54 -0000 (Mon, 13 Oct 2025) EndedAt: 2025-10-13 20:27:02 -0000 (Mon, 13 Oct 2025) EllapsedTime: 7.8 seconds RetCode: 0 Status: OK