Package: lpNet Version: 2.39.0 Command: /Library/Frameworks/R.framework/Resources/bin/R CMD INSTALL lpNet StartedAt: 2025-02-20 15:03:21 -0500 (Thu, 20 Feb 2025) EndedAt: 2025-02-20 15:03:28 -0500 (Thu, 20 Feb 2025) EllapsedTime: 7.5 seconds RetCode: 0 Status: OK