Package: lpNet Version: 2.39.0 Command: rm -rf lpNet.buildbin-libdir && mkdir lpNet.buildbin-libdir && /Users/biocbuild/BBS/utils/build-universal.sh lpNet_2.39.0.tar.gz /Library/Frameworks/R.framework/Resources/bin/R lpNet.buildbin-libdir StartedAt: 2025-02-20 22:23:58 -0500 (Thu, 20 Feb 2025) EndedAt: 2025-02-20 22:24:02 -0500 (Thu, 20 Feb 2025) EllapsedTime: 3.1 seconds RetCode: 0 Status: OK PackageFile: lpNet_2.39.0.tgz PackageFileSize: 405.5 KiB