Package: loci2path Version: 1.27.0 Command: /Library/Frameworks/R.framework/Resources/bin/R CMD INSTALL loci2path StartedAt: 2025-02-17 15:14:21 -0500 (Mon, 17 Feb 2025) EndedAt: 2025-02-17 15:14:38 -0500 (Mon, 17 Feb 2025) EllapsedTime: 17.5 seconds RetCode: 0 Status: OK