Package: loci2path Version: 1.27.0 Command: /Library/Frameworks/R.framework/Resources/bin/R CMD check --install=check:loci2path.install-out.txt --library=/Library/Frameworks/R.framework/Resources/library --no-vignettes --timings loci2path_1.27.0.tar.gz StartedAt: 2025-02-17 21:14:06 -0500 (Mon, 17 Feb 2025) EndedAt: 2025-02-17 21:15:44 -0500 (Mon, 17 Feb 2025) EllapsedTime: 98.4 seconds RetCode: 0 Status: OK CheckDir: loci2path.Rcheck Warnings: 0