Package: loci2path Version: 1.27.0 Command: /Library/Frameworks/R.framework/Resources/bin/R CMD build --keep-empty-dirs --no-resave-data loci2path StartedAt: 2025-02-17 17:09:09 -0500 (Mon, 17 Feb 2025) EndedAt: 2025-02-17 17:09:33 -0500 (Mon, 17 Feb 2025) EllapsedTime: 23.9 seconds RetCode: 0 Status: OK PackageFile: loci2path_1.27.0.tar.gz PackageFileSize: 610.2 KiB