Package: lmdme Version: 1.49.0 Command: /Library/Frameworks/R.framework/Resources/bin/R CMD INSTALL lmdme StartedAt: 2025-02-20 15:02:50 -0500 (Thu, 20 Feb 2025) EndedAt: 2025-02-20 15:02:53 -0500 (Thu, 20 Feb 2025) EllapsedTime: 3.5 seconds RetCode: 0 Status: OK