Package: lisaClust Version: 1.15.6 Command: /home/biocbuild/bbs-3.21-bioc/R/bin/R CMD INSTALL lisaClust StartedAt: 2025-02-19 15:36:55 -0500 (Wed, 19 Feb 2025) EndedAt: 2025-02-19 15:37:22 -0500 (Wed, 19 Feb 2025) EllapsedTime: 26.5 seconds RetCode: 0 Status: OK