Package: lisaClust Version: 1.15.6 Command: /Library/Frameworks/R.framework/Resources/bin/R CMD build --keep-empty-dirs --no-resave-data lisaClust StartedAt: 2025-02-19 17:10:36 -0500 (Wed, 19 Feb 2025) EndedAt: 2025-02-19 17:15:16 -0500 (Wed, 19 Feb 2025) EllapsedTime: 280.9 seconds RetCode: 0 Status: OK PackageFile: lisaClust_1.15.6.tar.gz PackageFileSize: 2.553 MiB