Package: lisaClust Version: 1.15.6 Command: /home/biocbuild/R/R/bin/R CMD INSTALL lisaClust StartedAt: 2025-01-29 20:34:42 -0000 (Wed, 29 Jan 2025) EndedAt: 2025-01-29 20:34:43 -0000 (Wed, 29 Jan 2025) EllapsedTime: 1.0 seconds RetCode: 1 Status: ERROR