Package: lipidr Version: 2.21.0 Command: E:\biocbuild\bbs-3.21-bioc\R\bin\R.exe CMD check --no-multiarch --install=check:lipidr.install-out.txt --library=E:\biocbuild\bbs-3.21-bioc\R\library --no-vignettes --timings lipidr_2.21.0.tar.gz StartedAt: 2025-02-18 02:14:40 -0500 (Tue, 18 Feb 2025) EndedAt: 2025-02-18 02:22:37 -0500 (Tue, 18 Feb 2025) EllapsedTime: 477.7 seconds RetCode: 0 Status: OK CheckDir: lipidr.Rcheck Warnings: 0