Package: lipidr Version: 2.21.0 Command: chmod a+r lipidr -R && E:\biocbuild\bbs-3.21-bioc\R\bin\R.exe CMD build --keep-empty-dirs --no-resave-data lipidr StartedAt: 2025-02-17 19:29:32 -0500 (Mon, 17 Feb 2025) EndedAt: 2025-02-17 19:30:47 -0500 (Mon, 17 Feb 2025) EllapsedTime: 74.9 seconds RetCode: 0 Status: OK PackageFile: lipidr_2.21.0.tar.gz PackageFileSize: 2.422 MiB