Package: lipidr Version: 2.21.0 Command: /home/biocbuild/bbs-3.21-bioc/R/bin/R CMD INSTALL lipidr StartedAt: 2025-02-17 15:36:39 -0500 (Mon, 17 Feb 2025) EndedAt: 2025-02-17 15:37:07 -0500 (Mon, 17 Feb 2025) EllapsedTime: 27.1 seconds RetCode: 0 Status: OK