Package: lipidr Version: 2.21.0 Command: /home/biocbuild/bbs-3.21-bioc/R/bin/R CMD build --keep-empty-dirs --no-resave-data lipidr StartedAt: 2025-02-17 17:49:02 -0500 (Mon, 17 Feb 2025) EndedAt: 2025-02-17 17:49:53 -0500 (Mon, 17 Feb 2025) EllapsedTime: 51.1 seconds RetCode: 0 Status: OK PackageFile: lipidr_2.21.0.tar.gz PackageFileSize: 3.345 MiB