Package: lipidr Version: 2.21.0 Command: /Library/Frameworks/R.framework/Resources/bin/R CMD check --install=check:lipidr.install-out.txt --library=/Library/Frameworks/R.framework/Resources/library --no-vignettes --timings lipidr_2.21.0.tar.gz StartedAt: 2025-02-17 19:54:34 -0500 (Mon, 17 Feb 2025) EndedAt: 2025-02-17 19:56:16 -0500 (Mon, 17 Feb 2025) EllapsedTime: 101.4 seconds RetCode: 0 Status: OK CheckDir: lipidr.Rcheck Warnings: 0