Package: lionessR Version: 1.21.0 Command: rm -rf lionessR.buildbin-libdir && mkdir lionessR.buildbin-libdir && E:\biocbuild\bbs-3.21-bioc\R\bin\R.exe CMD INSTALL --build --library=lionessR.buildbin-libdir lionessR_1.21.0.tar.gz StartedAt: 2025-02-21 08:24:58 -0500 (Fri, 21 Feb 2025) EndedAt: 2025-02-21 08:25:14 -0500 (Fri, 21 Feb 2025) EllapsedTime: 16.1 seconds RetCode: 0 Status: OK PackageFile: lionessR_1.21.0.zip PackageFileSize: 3.357 MiB