Package: lionessR Version: 1.21.0 Command: /home/biocbuild/bbs-3.21-bioc/R/bin/R CMD INSTALL lionessR StartedAt: 2025-02-20 15:26:49 -0500 (Thu, 20 Feb 2025) EndedAt: 2025-02-20 15:26:52 -0500 (Thu, 20 Feb 2025) EllapsedTime: 2.2 seconds RetCode: 0 Status: OK