Package: lionessR Version: 1.21.0 Command: /home/biocbuild/bbs-3.21-bioc/R/bin/R CMD build --keep-empty-dirs --no-resave-data lionessR StartedAt: 2025-02-20 17:59:39 -0500 (Thu, 20 Feb 2025) EndedAt: 2025-02-20 17:59:59 -0500 (Thu, 20 Feb 2025) EllapsedTime: 20.0 seconds RetCode: 0 Status: OK PackageFile: lionessR_1.21.0.tar.gz PackageFileSize: 2.828 MiB