Package: lionessR Version: 1.21.0 Command: /Library/Frameworks/R.framework/Resources/bin/R CMD check --install=check:lionessR.install-out.txt --library=/Library/Frameworks/R.framework/Resources/library --no-vignettes --timings lionessR_1.21.0.tar.gz StartedAt: 2025-02-20 21:17:43 -0500 (Thu, 20 Feb 2025) EndedAt: 2025-02-20 21:18:23 -0500 (Thu, 20 Feb 2025) EllapsedTime: 40.2 seconds RetCode: 0 Status: OK CheckDir: lionessR.Rcheck Warnings: 0