Package: lineagespot Version: 1.11.0 Command: E:\biocbuild\bbs-3.21-bioc\R\bin\R.exe CMD check --no-multiarch --install=check:lineagespot.install-out.txt --library=E:\biocbuild\bbs-3.21-bioc\R\library --no-vignettes --timings lineagespot_1.11.0.tar.gz StartedAt: 2025-02-21 02:41:32 -0500 (Fri, 21 Feb 2025) EndedAt: 2025-02-21 02:48:40 -0500 (Fri, 21 Feb 2025) EllapsedTime: 428.0 seconds RetCode: 0 Status: OK CheckDir: lineagespot.Rcheck Warnings: 0