Package: lineagespot Version: 1.11.0 Command: /Library/Frameworks/R.framework/Resources/bin/R CMD build --keep-empty-dirs --no-resave-data lineagespot StartedAt: 2025-02-20 17:09:51 -0500 (Thu, 20 Feb 2025) EndedAt: 2025-02-20 17:11:03 -0500 (Thu, 20 Feb 2025) EllapsedTime: 72.1 seconds RetCode: 0 Status: OK PackageFile: lineagespot_1.11.0.tar.gz PackageFileSize: 718.6 KiB