Package: lineagespot Version: 1.11.0 Command: /Library/Frameworks/R.framework/Resources/bin/R CMD check --install=check:lineagespot.install-out.txt --library=/Library/Frameworks/R.framework/Resources/library --no-vignettes --timings lineagespot_1.11.0.tar.gz StartedAt: 2025-02-20 19:55:26 -0500 (Thu, 20 Feb 2025) EndedAt: 2025-02-20 19:57:35 -0500 (Thu, 20 Feb 2025) EllapsedTime: 128.8 seconds RetCode: 0 Status: OK CheckDir: lineagespot.Rcheck Warnings: 0