Package: limpca Version: 1.3.0 Command: /home/biocbuild/bbs-3.21-bioc/R/bin/R CMD build --keep-empty-dirs --no-resave-data limpca StartedAt: 2025-02-19 17:50:47 -0500 (Wed, 19 Feb 2025) EndedAt: 2025-02-19 17:52:45 -0500 (Wed, 19 Feb 2025) EllapsedTime: 118.2 seconds RetCode: 0 Status: OK PackageFile: limpca_1.3.0.tar.gz PackageFileSize: 4.736 MiB