Package: limpca Version: 1.3.0 Command: /Library/Frameworks/R.framework/Resources/bin/R CMD check --install=check:limpca.install-out.txt --library=/Library/Frameworks/R.framework/Resources/library --no-vignettes --timings limpca_1.3.0.tar.gz StartedAt: 2025-02-19 19:57:41 -0500 (Wed, 19 Feb 2025) EndedAt: 2025-02-19 19:58:59 -0500 (Wed, 19 Feb 2025) EllapsedTime: 78.0 seconds RetCode: 0 Status: OK CheckDir: limpca.Rcheck Warnings: 0