Package: limpca Version: 1.3.0 Command: rm -rf limpca.buildbin-libdir && mkdir limpca.buildbin-libdir && /Users/biocbuild/BBS/utils/build-universal.sh limpca_1.3.0.tar.gz /Library/Frameworks/R.framework/Resources/bin/R limpca.buildbin-libdir StartedAt: 2025-02-19 22:26:55 -0500 (Wed, 19 Feb 2025) EndedAt: 2025-02-19 22:27:06 -0500 (Wed, 19 Feb 2025) EllapsedTime: 11.3 seconds RetCode: 0 Status: OK PackageFile: limpca_1.3.0.tgz PackageFileSize: 5.051 MiB