Package: limmaGUI Version: 1.83.0 Command: /home/biocbuild/bbs-3.21-bioc/R/bin/R CMD INSTALL limmaGUI StartedAt: 2025-02-17 15:04:59 -0500 (Mon, 17 Feb 2025) EndedAt: 2025-02-17 15:05:24 -0500 (Mon, 17 Feb 2025) EllapsedTime: 25.3 seconds RetCode: 0 Status: OK