Package: limmaGUI Version: 1.83.0 Command: /Library/Frameworks/R.framework/Resources/bin/R CMD INSTALL limmaGUI StartedAt: 2025-02-17 15:06:25 -0500 (Mon, 17 Feb 2025) EndedAt: 2025-02-17 15:06:57 -0500 (Mon, 17 Feb 2025) EllapsedTime: 31.6 seconds RetCode: 0 Status: OK