Package: limmaGUI Version: 1.83.0 Command: /Library/Frameworks/R.framework/Resources/bin/R CMD check --install=check:limmaGUI.install-out.txt --library=/Library/Frameworks/R.framework/Resources/library --no-vignettes --timings limmaGUI_1.83.0.tar.gz StartedAt: 2025-02-17 21:12:46 -0500 (Mon, 17 Feb 2025) EndedAt: 2025-02-17 21:14:11 -0500 (Mon, 17 Feb 2025) EllapsedTime: 84.3 seconds RetCode: 0 Status: OK CheckDir: limmaGUI.Rcheck Warnings: 0