Package: limmaGUI Version: 1.83.0 Command: /Library/Frameworks/R.framework/Resources/bin/R CMD build --keep-empty-dirs --no-resave-data limmaGUI StartedAt: 2025-02-17 16:45:23 -0500 (Mon, 17 Feb 2025) EndedAt: 2025-02-17 16:45:36 -0500 (Mon, 17 Feb 2025) EllapsedTime: 12.1 seconds RetCode: 0 Status: OK PackageFile: limmaGUI_1.83.0.tar.gz PackageFileSize: 5.346 MiB