Package: limma Version: 3.63.3 Command: E:\biocbuild\bbs-3.21-bioc\R\bin\R.exe CMD INSTALL limma StartedAt: 2025-02-18 15:21:41 -0500 (Tue, 18 Feb 2025) EndedAt: 2025-02-18 15:23:32 -0500 (Tue, 18 Feb 2025) EllapsedTime: 111.0 seconds RetCode: 0 Status: OK