Package: limma Version: 3.63.3 Command: E:\biocbuild\bbs-3.21-bioc\R\bin\R.exe CMD check --no-multiarch --install=check:limma.install-out.txt --library=E:\biocbuild\bbs-3.21-bioc\R\library --no-vignettes --timings limma_3.63.3.tar.gz StartedAt: 2025-02-19 02:19:59 -0500 (Wed, 19 Feb 2025) EndedAt: 2025-02-19 02:22:11 -0500 (Wed, 19 Feb 2025) EllapsedTime: 132.0 seconds RetCode: 0 Status: OK CheckDir: limma.Rcheck Warnings: 0