Package: limma Version: 3.63.3 Command: /home/biocbuild/bbs-3.21-bioc/R/bin/R CMD INSTALL limma StartedAt: 2025-02-18 15:01:27 -0500 (Tue, 18 Feb 2025) EndedAt: 2025-02-18 15:01:50 -0500 (Tue, 18 Feb 2025) EllapsedTime: 23.2 seconds RetCode: 0 Status: OK