Package: limma Version: 3.63.3 Command: /Library/Frameworks/R.framework/Resources/bin/R CMD build --keep-empty-dirs --no-resave-data limma StartedAt: 2025-02-18 16:46:45 -0500 (Tue, 18 Feb 2025) EndedAt: 2025-02-18 16:46:56 -0500 (Tue, 18 Feb 2025) EllapsedTime: 11.1 seconds RetCode: 0 Status: OK PackageFile: limma_3.63.3.tar.gz PackageFileSize: 2.685 MiB