Package: lfa Version: 2.7.0 Command: chmod a+r lfa -R && E:\biocbuild\bbs-3.21-bioc\R\bin\R.exe CMD build --keep-empty-dirs --no-resave-data lfa StartedAt: 2025-02-18 19:31:27 -0500 (Tue, 18 Feb 2025) EndedAt: 2025-02-18 19:31:49 -0500 (Tue, 18 Feb 2025) EllapsedTime: 22.1 seconds RetCode: 0 Status: OK PackageFile: lfa_2.7.0.tar.gz PackageFileSize: 342 KiB